Package: diffloop Version: 1.20.0 Command: chmod a+r diffloop -R && C:\Users\biocbuild\bbs-3.13-bioc\R\bin\R.exe CMD build --keep-empty-dirs --no-resave-data diffloop StartedAt: 2021-10-14 13:28:24 -0400 (Thu, 14 Oct 2021) EndedAt: 2021-10-14 13:29:26 -0400 (Thu, 14 Oct 2021) EllapsedTime: 62.3 seconds RetCode: 0 Status: OK PackageFile: diffloop_1.20.0.tar.gz PackageFileSize: 1.125 MiB