Package: diffloop Version: 1.20.0 Command: C:\Users\biocbuild\bbs-3.13-bioc\R\bin\R.exe CMD check --force-multiarch --install=check:diffloop.install-out.txt --library=C:\Users\biocbuild\bbs-3.13-bioc\R\library --no-vignettes --timings diffloop_1.20.0.tar.gz StartedAt: 2021-10-14 22:18:11 -0400 (Thu, 14 Oct 2021) EndedAt: 2021-10-14 22:24:04 -0400 (Thu, 14 Oct 2021) EllapsedTime: 352.9 seconds RetCode: 0 Status: WARNINGS CheckDir: diffloop.Rcheck Warnings: 1