Package: diffloop Version: 1.20.0 Command: C:\cygwin\bin\curl.exe -O http://155.52.207.165/BBS/3.13/bioc/src/contrib/diffloop_1.20.0.tar.gz && rm -rf diffloop.buildbin-libdir && mkdir diffloop.buildbin-libdir && C:\Users\biocbuild\bbs-3.13-bioc\R\bin\R.exe CMD INSTALL --merge-multiarch --build --library=diffloop.buildbin-libdir diffloop_1.20.0.tar.gz && C:\Users\biocbuild\bbs-3.13-bioc\R\bin\R.exe CMD INSTALL diffloop_1.20.0.zip && rm diffloop_1.20.0.tar.gz diffloop_1.20.0.zip StartedAt: 2021-10-14 10:13:11 -0400 (Thu, 14 Oct 2021) EndedAt: 2021-10-14 10:14:56 -0400 (Thu, 14 Oct 2021) EllapsedTime: 105.0 seconds RetCode: 0 Status: OK