Package: diffuStats Version: 1.12.0 Command: rm -rf diffuStats.buildbin-libdir && mkdir diffuStats.buildbin-libdir && /Users/biocbuild/BBS/utils/build-universal.sh diffuStats_1.12.0.tar.gz /Library/Frameworks/R.framework/Versions/Current/Resources/bin/R diffuStats.buildbin-libdir StartedAt: 2021-10-15 02:12:37 -0400 (Fri, 15 Oct 2021) EndedAt: 2021-10-15 02:13:31 -0400 (Fri, 15 Oct 2021) EllapsedTime: 54.8 seconds RetCode: 0 Status: OK PackageFile: diffuStats_1.12.0.tgz PackageFileSize: 1.375 MiB