Package: diffuStats Version: 1.12.0 Command: /Library/Frameworks/R.framework/Versions/Current/Resources/bin/R CMD check --install=check:diffuStats.install-out.txt --library=/Library/Frameworks/R.framework/Versions/Current/Resources/library --no-vignettes --timings diffuStats_1.12.0.tar.gz StartedAt: 2021-10-14 18:24:45 -0400 (Thu, 14 Oct 2021) EndedAt: 2021-10-14 18:26:21 -0400 (Thu, 14 Oct 2021) EllapsedTime: 95.9 seconds RetCode: 0 Status: OK CheckDir: diffuStats.Rcheck Warnings: 0