Package: diffuStats Version: 1.12.0 Command: chmod a+r diffuStats -R && C:\Users\biocbuild\bbs-3.13-bioc\R\bin\R.exe CMD build --keep-empty-dirs --no-resave-data diffuStats StartedAt: 2021-10-14 13:28:32 -0400 (Thu, 14 Oct 2021) EndedAt: 2021-10-14 13:29:43 -0400 (Thu, 14 Oct 2021) EllapsedTime: 71.0 seconds RetCode: 0 Status: OK PackageFile: diffuStats_1.12.0.tar.gz PackageFileSize: 880.8 KiB