Package: diffuStats Version: 1.12.0 Command: C:\cygwin\bin\curl.exe -O http://155.52.207.165/BBS/3.13/bioc/src/contrib/diffuStats_1.12.0.tar.gz && rm -rf diffuStats.buildbin-libdir && mkdir diffuStats.buildbin-libdir && C:\Users\biocbuild\bbs-3.13-bioc\R\bin\R.exe CMD INSTALL --merge-multiarch --build --library=diffuStats.buildbin-libdir diffuStats_1.12.0.tar.gz && C:\Users\biocbuild\bbs-3.13-bioc\R\bin\R.exe CMD INSTALL diffuStats_1.12.0.zip && rm diffuStats_1.12.0.tar.gz diffuStats_1.12.0.zip StartedAt: 2021-10-14 08:25:56 -0400 (Thu, 14 Oct 2021) EndedAt: 2021-10-14 08:27:16 -0400 (Thu, 14 Oct 2021) EllapsedTime: 80.2 seconds RetCode: 0 Status: OK