Package: dir.expiry Version: 1.0.0 Command: /home/biocbuild/bbs-3.13-bioc/R/bin/R CMD INSTALL dir.expiry StartedAt: 2021-10-14 06:01:54 -0400 (Thu, 14 Oct 2021) EndedAt: 2021-10-14 06:02:00 -0400 (Thu, 14 Oct 2021) EllapsedTime: 6.5 seconds RetCode: 0 Status: OK