Package: discordant Version: 1.16.0 Command: /home/biocbuild/bbs-3.13-bioc/R/bin/R CMD build --keep-empty-dirs --no-resave-data discordant StartedAt: 2021-10-14 07:08:40 -0400 (Thu, 14 Oct 2021) EndedAt: 2021-10-14 07:08:49 -0400 (Thu, 14 Oct 2021) EllapsedTime: 8.2 seconds RetCode: 0 Status: OK PackageFile: discordant_1.16.0.tar.gz PackageFileSize: 311.5 KiB