Package: discordant Version: 1.16.0 Command: /home/biocbuild/bbs-3.13-bioc/R/bin/R CMD check --install=check:discordant.install-out.txt --library=/home/biocbuild/bbs-3.13-bioc/R/library --no-vignettes --timings discordant_1.16.0.tar.gz StartedAt: 2021-10-14 09:36:21 -0400 (Thu, 14 Oct 2021) EndedAt: 2021-10-14 09:36:52 -0400 (Thu, 14 Oct 2021) EllapsedTime: 30.8 seconds RetCode: 0 Status: WARNINGS CheckDir: discordant.Rcheck Warnings: 1