git_url: https://git.bioconductor.org/packages/dks git_branch: RELEASE_3_13 git_last_commit: 445de0a git_last_commit_date: 2021-05-19 11:49:56 -0400 (Wed, 19 May 2021) Package: dks Version: 1.38.0 Maintainer: Jeffrey T. Leek MaintainerEmail: jleek at jhsph.edu