Package: dks Version: 1.38.0 Command: rm -rf dks.buildbin-libdir && mkdir dks.buildbin-libdir && /Users/biocbuild/BBS/utils/build-universal.sh dks_1.38.0.tar.gz /Library/Frameworks/R.framework/Versions/Current/Resources/bin/R dks.buildbin-libdir StartedAt: 2021-10-15 02:13:37 -0400 (Fri, 15 Oct 2021) EndedAt: 2021-10-15 02:14:41 -0400 (Fri, 15 Oct 2021) EllapsedTime: 64.4 seconds RetCode: 0 Status: OK PackageFile: dks_1.38.0.tgz PackageFileSize: 477.7 KiB