Package: dks Version: 1.38.0 Command: /Library/Frameworks/R.framework/Versions/Current/Resources/bin/R CMD build --keep-empty-dirs --no-resave-data dks StartedAt: 2021-10-14 11:45:43 -0400 (Thu, 14 Oct 2021) EndedAt: 2021-10-14 11:46:07 -0400 (Thu, 14 Oct 2021) EllapsedTime: 23.4 seconds RetCode: 0 Status: OK PackageFile: dks_1.38.0.tar.gz PackageFileSize: 458.4 KiB