Package: dpeak Version: 1.4.0 Command: /Library/Frameworks/R.framework/Versions/Current/Resources/bin/R CMD check --install=check:dpeak.install-out.txt --library=/Library/Frameworks/R.framework/Versions/Current/Resources/library --no-vignettes --timings dpeak_1.4.0.tar.gz StartedAt: 2021-10-14 18:35:32 -0400 (Thu, 14 Oct 2021) EndedAt: 2021-10-14 18:40:08 -0400 (Thu, 14 Oct 2021) EllapsedTime: 276.1 seconds RetCode: 0 Status: OK CheckDir: dpeak.Rcheck Warnings: 0