Package: dpeak Version: 1.4.0 Command: /home/biocbuild/bbs-3.13-bioc/R/bin/R CMD build --keep-empty-dirs --no-resave-data dpeak StartedAt: 2021-10-14 07:10:08 -0400 (Thu, 14 Oct 2021) EndedAt: 2021-10-14 07:11:34 -0400 (Thu, 14 Oct 2021) EllapsedTime: 85.9 seconds RetCode: 0 Status: OK PackageFile: dpeak_1.4.0.tar.gz PackageFileSize: 324.1 KiB