Package: dpeak Version: 1.4.0 Command: /home/biocbuild/bbs-3.13-bioc/R/bin/R CMD check --install=check:dpeak.install-out.txt --library=/home/biocbuild/bbs-3.13-bioc/R/library --no-vignettes --timings dpeak_1.4.0.tar.gz StartedAt: 2021-10-14 09:39:17 -0400 (Thu, 14 Oct 2021) EndedAt: 2021-10-14 09:42:29 -0400 (Thu, 14 Oct 2021) EllapsedTime: 191.5 seconds RetCode: 0 Status: OK CheckDir: dpeak.Rcheck Warnings: 0