Package: dpeak Version: 1.4.0 Command: /home/biocbuild/bbs-3.13-bioc/R/bin/R CMD INSTALL dpeak StartedAt: 2021-10-14 06:24:24 -0400 (Thu, 14 Oct 2021) EndedAt: 2021-10-14 06:25:22 -0400 (Thu, 14 Oct 2021) EllapsedTime: 58.2 seconds RetCode: 0 Status: OK