Package: dpeak Version: 1.4.0 Command: chmod a+r dpeak -R && C:\Users\biocbuild\bbs-3.13-bioc\R\bin\R.exe CMD build --keep-empty-dirs --no-resave-data dpeak StartedAt: 2021-10-14 13:33:51 -0400 (Thu, 14 Oct 2021) EndedAt: 2021-10-14 13:35:39 -0400 (Thu, 14 Oct 2021) EllapsedTime: 108.4 seconds RetCode: 0 Status: OK PackageFile: dpeak_1.4.0.tar.gz PackageFileSize: 338 KiB