Package: drugTargetInteractions Version: 1.0.2 Command: /home/biocbuild/bbs-3.13-bioc/R/bin/R CMD build --keep-empty-dirs --no-resave-data drugTargetInteractions StartedAt: 2021-10-14 07:10:27 -0400 (Thu, 14 Oct 2021) EndedAt: 2021-10-14 07:12:05 -0400 (Thu, 14 Oct 2021) EllapsedTime: 97.5 seconds RetCode: 0 Status: OK PackageFile: drugTargetInteractions_1.0.2.tar.gz PackageFileSize: 939 KiB