Package: drugTargetInteractions Version: 1.0.2 Command: /home/biocbuild/bbs-3.13-bioc/R/bin/R CMD INSTALL drugTargetInteractions StartedAt: 2021-10-14 06:27:37 -0400 (Thu, 14 Oct 2021) EndedAt: 2021-10-14 06:28:09 -0400 (Thu, 14 Oct 2021) EllapsedTime: 32.1 seconds RetCode: 0 Status: OK