git_url: https://git.bioconductor.org/packages/dupRadar git_branch: RELEASE_3_13 git_last_commit: f2c89b9 git_last_commit_date: 2021-05-19 12:15:40 -0400 (Wed, 19 May 2021) Package: dupRadar Version: 1.22.0 Maintainer: Sergi Sayols , Holger Klein MaintainerEmail: holger.klein at gmail.com