Package: dupRadar Version: 1.22.0 Command: /Library/Frameworks/R.framework/Versions/Current/Resources/bin/R CMD build --keep-empty-dirs --no-resave-data dupRadar StartedAt: 2021-10-14 11:50:01 -0400 (Thu, 14 Oct 2021) EndedAt: 2021-10-14 11:50:55 -0400 (Thu, 14 Oct 2021) EllapsedTime: 53.9 seconds RetCode: 0 Status: OK PackageFile: dupRadar_1.22.0.tar.gz PackageFileSize: 3.694 MiB