Package: easyRNASeq Version: 2.28.0 Command: chmod a+r easyRNASeq -R && C:\Users\biocbuild\bbs-3.13-bioc\R\bin\R.exe CMD build --keep-empty-dirs --no-resave-data easyRNASeq StartedAt: 2021-10-14 13:37:09 -0400 (Thu, 14 Oct 2021) EndedAt: 2021-10-14 13:42:02 -0400 (Thu, 14 Oct 2021) EllapsedTime: 292.5 seconds RetCode: 0 Status: OK PackageFile: easyRNASeq_2.28.0.tar.gz PackageFileSize: 69.51 MiB