Package: easyreporting Version: 1.4.0 Command: rm -rf easyreporting.buildbin-libdir && mkdir easyreporting.buildbin-libdir && /Users/biocbuild/BBS/utils/build-universal.sh easyreporting_1.4.0.tar.gz /Library/Frameworks/R.framework/Versions/Current/Resources/bin/R easyreporting.buildbin-libdir StartedAt: 2021-10-15 02:16:18 -0400 (Fri, 15 Oct 2021) EndedAt: 2021-10-15 02:17:23 -0400 (Fri, 15 Oct 2021) EllapsedTime: 64.9 seconds RetCode: 0 Status: OK PackageFile: easyreporting_1.4.0.tgz PackageFileSize: 3.097 MiB