Package: edge Version: 2.24.0 Command: rm -rf edge.buildbin-libdir && mkdir edge.buildbin-libdir && /Users/biocbuild/BBS/utils/build-universal.sh edge_2.24.0.tar.gz /Library/Frameworks/R.framework/Versions/Current/Resources/bin/R edge.buildbin-libdir StartedAt: 2021-10-15 02:17:12 -0400 (Fri, 15 Oct 2021) EndedAt: 2021-10-15 02:18:23 -0400 (Fri, 15 Oct 2021) EllapsedTime: 70.5 seconds RetCode: 0 Status: OK PackageFile: edge_2.24.0.tgz PackageFileSize: 1.61 MiB