Package: edgeR Version: 3.34.1 Command: /Library/Frameworks/R.framework/Versions/Current/Resources/bin/R CMD build --keep-empty-dirs --no-resave-data edgeR StartedAt: 2021-10-14 11:51:38 -0400 (Thu, 14 Oct 2021) EndedAt: 2021-10-14 11:53:54 -0400 (Thu, 14 Oct 2021) EllapsedTime: 136.5 seconds RetCode: 0 Status: OK PackageFile: edgeR_3.34.1.tar.gz PackageFileSize: 1.645 MiB