Package: eiR Version: 1.32.0 Command: /home/biocbuild/bbs-3.13-bioc/R/bin/R CMD build --keep-empty-dirs --no-resave-data eiR StartedAt: 2021-10-14 07:11:18 -0400 (Thu, 14 Oct 2021) EndedAt: 2021-10-14 07:11:35 -0400 (Thu, 14 Oct 2021) EllapsedTime: 17.1 seconds RetCode: 0 Status: OK PackageFile: eiR_1.32.0.tar.gz PackageFileSize: 418.6 KiB