Package: eiR Version: 1.32.0 Command: chmod a+r eiR -R && C:\Users\biocbuild\bbs-3.13-bioc\R\bin\R.exe --arch x64 CMD build --keep-empty-dirs --no-resave-data eiR StartedAt: 2021-10-14 13:39:35 -0400 (Thu, 14 Oct 2021) EndedAt: 2021-10-14 13:40:15 -0400 (Thu, 14 Oct 2021) EllapsedTime: 39.6 seconds RetCode: 0 Status: OK PackageFile: eiR_1.32.0.tar.gz PackageFileSize: 658.3 KiB