git_url: https://git.bioconductor.org/packages/enrichTF git_branch: RELEASE_3_13 git_last_commit: 956c94b git_last_commit_date: 2021-05-19 12:43:30 -0400 (Wed, 19 May 2021) Package: enrichTF Version: 1.8.0 Maintainer: Zheng Wei MaintainerEmail: wzwz at stanford.edu