Package: enrichplot Version: 1.12.3 Command: C:\cygwin\bin\curl.exe -O http://155.52.207.165/BBS/3.13/bioc/src/contrib/enrichplot_1.12.3.tar.gz && rm -rf enrichplot.buildbin-libdir && mkdir enrichplot.buildbin-libdir && C:\Users\biocbuild\bbs-3.13-bioc\R\bin\R.exe CMD INSTALL --merge-multiarch --build --library=enrichplot.buildbin-libdir enrichplot_1.12.3.tar.gz && C:\Users\biocbuild\bbs-3.13-bioc\R\bin\R.exe CMD INSTALL enrichplot_1.12.3.zip && rm enrichplot_1.12.3.tar.gz enrichplot_1.12.3.zip StartedAt: 2021-10-14 10:07:09 -0400 (Thu, 14 Oct 2021) EndedAt: 2021-10-14 10:10:48 -0400 (Thu, 14 Oct 2021) EllapsedTime: 218.9 seconds RetCode: 0 Status: OK