Package: epiNEM Version: 1.16.0 Command: rm -rf epiNEM.buildbin-libdir && mkdir epiNEM.buildbin-libdir && /Users/biocbuild/BBS/utils/build-universal.sh epiNEM_1.16.0.tar.gz /Library/Frameworks/R.framework/Versions/Current/Resources/bin/R epiNEM.buildbin-libdir StartedAt: 2021-10-15 02:19:40 -0400 (Fri, 15 Oct 2021) EndedAt: 2021-10-15 02:20:39 -0400 (Fri, 15 Oct 2021) EllapsedTime: 58.8 seconds RetCode: 0 Status: OK PackageFile: epiNEM_1.16.0.tgz PackageFileSize: 1.995 MiB