Package: epiNEM Version: 1.16.0 Command: /Library/Frameworks/R.framework/Versions/Current/Resources/bin/R CMD check --install=check:epiNEM.install-out.txt --library=/Library/Frameworks/R.framework/Versions/Current/Resources/library --no-vignettes --timings epiNEM_1.16.0.tar.gz StartedAt: 2021-10-14 18:49:32 -0400 (Thu, 14 Oct 2021) EndedAt: 2021-10-14 18:53:02 -0400 (Thu, 14 Oct 2021) EllapsedTime: 210.1 seconds RetCode: 0 Status: OK CheckDir: epiNEM.Rcheck Warnings: 0