git_url: https://git.bioconductor.org/packages/epidecodeR git_branch: RELEASE_3_13 git_last_commit: ca8d4d8 git_last_commit_date: 2021-06-02 21:55:23 -0400 (Wed, 02 Jun 2021) Package: epidecodeR Version: 1.0.2 Maintainer: Kandarp Joshi MaintainerEmail: kandarpbioinfo at gmail.com