Package: epidecodeR Version: 1.0.2 Command: /Library/Frameworks/R.framework/Versions/Current/Resources/bin/R CMD check --install=check:epidecodeR.install-out.txt --library=/Library/Frameworks/R.framework/Versions/Current/Resources/library --no-vignettes --timings epidecodeR_1.0.2.tar.gz StartedAt: 2021-10-14 18:45:26 -0400 (Thu, 14 Oct 2021) EndedAt: 2021-10-14 18:50:10 -0400 (Thu, 14 Oct 2021) EllapsedTime: 284.7 seconds RetCode: 0 Status: OK CheckDir: epidecodeR.Rcheck Warnings: 0