Package: epidecodeR Version: 1.0.2 Command: /home/biocbuild/bbs-3.13-bioc/R/bin/R CMD INSTALL epidecodeR StartedAt: 2021-10-14 06:31:51 -0400 (Thu, 14 Oct 2021) EndedAt: 2021-10-14 06:32:18 -0400 (Thu, 14 Oct 2021) EllapsedTime: 27.1 seconds RetCode: 0 Status: OK