Package: epidecodeR Version: 1.0.2 Command: rm -rf epidecodeR.buildbin-libdir && mkdir epidecodeR.buildbin-libdir && C:\Users\biocbuild\bbs-3.13-bioc\R\bin\R.exe CMD INSTALL --merge-multiarch --build --library=epidecodeR.buildbin-libdir epidecodeR_1.0.2.tar.gz StartedAt: 2021-10-15 09:10:08 -0400 (Fri, 15 Oct 2021) EndedAt: 2021-10-15 09:11:25 -0400 (Fri, 15 Oct 2021) EllapsedTime: 76.1 seconds RetCode: 0 Status: OK PackageFile: epidecodeR_1.0.2.zip PackageFileSize: 1.605 MiB