Package: epidecodeR Version: 1.0.2 Command: C:\Users\biocbuild\bbs-3.13-bioc\R\bin\R.exe CMD check --force-multiarch --install=check:epidecodeR.install-out.txt --library=C:\Users\biocbuild\bbs-3.13-bioc\R\library --no-vignettes --timings epidecodeR_1.0.2.tar.gz StartedAt: 2021-10-14 22:46:27 -0400 (Thu, 14 Oct 2021) EndedAt: 2021-10-14 22:51:39 -0400 (Thu, 14 Oct 2021) EllapsedTime: 311.6 seconds RetCode: 0 Status: OK CheckDir: epidecodeR.Rcheck Warnings: 0