Package: epidecodeR Version: 1.0.2 Command: C:\cygwin\bin\curl.exe -O http://155.52.207.165/BBS/3.13/bioc/src/contrib/epidecodeR_1.0.2.tar.gz && rm -rf epidecodeR.buildbin-libdir && mkdir epidecodeR.buildbin-libdir && C:\Users\biocbuild\bbs-3.13-bioc\R\bin\R.exe CMD INSTALL --merge-multiarch --build --library=epidecodeR.buildbin-libdir epidecodeR_1.0.2.tar.gz && C:\Users\biocbuild\bbs-3.13-bioc\R\bin\R.exe CMD INSTALL epidecodeR_1.0.2.zip && rm epidecodeR_1.0.2.tar.gz epidecodeR_1.0.2.zip StartedAt: 2021-10-14 11:04:04 -0400 (Thu, 14 Oct 2021) EndedAt: 2021-10-14 11:04:59 -0400 (Thu, 14 Oct 2021) EllapsedTime: 54.7 seconds RetCode: 0 Status: OK