Package: epigenomix Version: 1.32.0 Command: rm -rf epigenomix.buildbin-libdir && mkdir epigenomix.buildbin-libdir && C:\Users\biocbuild\bbs-3.13-bioc\R\bin\R.exe CMD INSTALL --merge-multiarch --build --library=epigenomix.buildbin-libdir epigenomix_1.32.0.tar.gz StartedAt: 2021-10-15 09:10:25 -0400 (Fri, 15 Oct 2021) EndedAt: 2021-10-15 09:11:49 -0400 (Fri, 15 Oct 2021) EllapsedTime: 84.6 seconds RetCode: 0 Status: OK PackageFile: epigenomix_1.32.0.zip PackageFileSize: 1.032 MiB