Package: epigraHMM Version: 1.0.8 Command: rm -rf epigraHMM.buildbin-libdir && mkdir epigraHMM.buildbin-libdir && C:\Users\biocbuild\bbs-3.13-bioc\R\bin\R.exe CMD INSTALL --merge-multiarch --build --library=epigraHMM.buildbin-libdir epigraHMM_1.0.8.tar.gz StartedAt: 2021-10-15 09:10:33 -0400 (Fri, 15 Oct 2021) EndedAt: 2021-10-15 09:15:24 -0400 (Fri, 15 Oct 2021) EllapsedTime: 290.8 seconds RetCode: 0 Status: OK PackageFile: epigraHMM_1.0.8.zip PackageFileSize: 4.164 MiB