Package: epihet Version: 1.8.0 Command: /Library/Frameworks/R.framework/Versions/Current/Resources/bin/R CMD build --keep-empty-dirs --no-resave-data epihet StartedAt: 2021-10-14 11:56:44 -0400 (Thu, 14 Oct 2021) EndedAt: 2021-10-14 11:58:20 -0400 (Thu, 14 Oct 2021) EllapsedTime: 95.7 seconds RetCode: 0 Status: OK PackageFile: epihet_1.8.0.tar.gz PackageFileSize: 789.7 KiB