Package: epihet Version: 1.8.0 Command: /home/biocbuild/bbs-3.13-bioc/R/bin/R CMD build --keep-empty-dirs --no-resave-data epihet StartedAt: 2021-10-14 07:12:38 -0400 (Thu, 14 Oct 2021) EndedAt: 2021-10-14 07:13:53 -0400 (Thu, 14 Oct 2021) EllapsedTime: 74.5 seconds RetCode: 0 Status: OK PackageFile: epihet_1.8.0.tar.gz PackageFileSize: 789.8 KiB