Package: epihet Version: 1.8.0 Command: rm -rf epihet.buildbin-libdir && mkdir epihet.buildbin-libdir && C:\Users\biocbuild\bbs-3.13-bioc\R\bin\R.exe CMD INSTALL --merge-multiarch --build --library=epihet.buildbin-libdir epihet_1.8.0.tar.gz StartedAt: 2021-10-15 09:10:43 -0400 (Fri, 15 Oct 2021) EndedAt: 2021-10-15 09:11:58 -0400 (Fri, 15 Oct 2021) EllapsedTime: 74.8 seconds RetCode: 0 Status: OK PackageFile: epihet_1.8.0.zip PackageFileSize: 902.4 KiB