Package: epivizrStandalone Version: 1.20.0 Command: /home/biocbuild/bbs-3.13-bioc/R/bin/R CMD build --keep-empty-dirs --no-resave-data epivizrStandalone StartedAt: 2021-10-14 07:13:21 -0400 (Thu, 14 Oct 2021) EndedAt: 2021-10-14 07:14:00 -0400 (Thu, 14 Oct 2021) EllapsedTime: 38.9 seconds RetCode: 0 Status: OK PackageFile: epivizrStandalone_1.20.0.tar.gz PackageFileSize: 219.7 KiB