Package: epivizrStandalone Version: 1.20.0 Command: /home/biocbuild/bbs-3.13-bioc/R/bin/R CMD check --install=check:epivizrStandalone.install-out.txt --library=/home/biocbuild/bbs-3.13-bioc/R/library --no-vignettes --timings epivizrStandalone_1.20.0.tar.gz StartedAt: 2021-10-14 09:45:07 -0400 (Thu, 14 Oct 2021) EndedAt: 2021-10-14 09:48:59 -0400 (Thu, 14 Oct 2021) EllapsedTime: 231.7 seconds RetCode: 0 Status: OK CheckDir: epivizrStandalone.Rcheck Warnings: 0