Package: epivizrStandalone Version: 1.20.0 Command: /home/biocbuild/bbs-3.13-bioc/R/bin/R CMD INSTALL epivizrStandalone StartedAt: 2021-10-14 06:28:48 -0400 (Thu, 14 Oct 2021) EndedAt: 2021-10-14 06:29:22 -0400 (Thu, 14 Oct 2021) EllapsedTime: 33.8 seconds RetCode: 0 Status: OK