git_url: https://git.bioconductor.org/packages/erccdashboard git_branch: RELEASE_3_13 git_last_commit: cea65f1 git_last_commit_date: 2021-05-19 12:06:57 -0400 (Wed, 19 May 2021) Package: erccdashboard Version: 1.26.0 Maintainer: Sarah Munro MaintainerEmail: sarah.munro at gmail.com