git_url: https://git.bioconductor.org/packages/erma git_branch: RELEASE_3_13 git_last_commit: 6958ee9 git_last_commit_date: 2021-05-19 12:14:10 -0400 (Wed, 19 May 2021) Package: erma Version: 1.8.0 Maintainer: VJ Carey MaintainerEmail: stvjc at channing.harvard.edu