Package: escape Version: 1.2.0 Command: rm -rf escape.buildbin-libdir && mkdir escape.buildbin-libdir && C:\Users\biocbuild\bbs-3.13-bioc\R\bin\R.exe CMD INSTALL --merge-multiarch --build --library=escape.buildbin-libdir escape_1.2.0.tar.gz StartedAt: 2021-10-15 09:12:22 -0400 (Fri, 15 Oct 2021) EndedAt: 2021-10-15 09:13:30 -0400 (Fri, 15 Oct 2021) EllapsedTime: 67.2 seconds RetCode: 0 Status: OK PackageFile: escape_1.2.0.zip PackageFileSize: 673.4 KiB