Package: escape Version: 1.2.0 Command: C:\cygwin\bin\curl.exe -O http://155.52.207.165/BBS/3.13/bioc/src/contrib/escape_1.2.0.tar.gz && rm -rf escape.buildbin-libdir && mkdir escape.buildbin-libdir && C:\Users\biocbuild\bbs-3.13-bioc\R\bin\R.exe CMD INSTALL --merge-multiarch --build --library=escape.buildbin-libdir escape_1.2.0.tar.gz && C:\Users\biocbuild\bbs-3.13-bioc\R\bin\R.exe CMD INSTALL escape_1.2.0.zip && rm escape_1.2.0.tar.gz escape_1.2.0.zip StartedAt: 2021-10-14 09:17:54 -0400 (Thu, 14 Oct 2021) EndedAt: 2021-10-14 09:18:58 -0400 (Thu, 14 Oct 2021) EllapsedTime: 64.2 seconds RetCode: 0 Status: OK